BEGIN:VCALENDAR
VERSION:2.0
PRODID:-//Acme Widgets\, Inc.//NONSGML ExportToCalendar//EN
CALSCALE:GREGORIAN
BEGIN:VEVENT
DTSTAMP:20260422T141928Z
UID:3af600d8-b122-4c9f-967b-9071c9011540
DTSTART:20260425T140000
DTEND:20260425T143000
DESCRIPTION:Inspection for A319 / 81-86 Courallie Avenue\, HOMEBUSH WEST NS
 W 2140
LOCATION:A319 / 81-86 Courallie Avenue\, HOMEBUSH WEST NSW 2140
SUMMARY:A319 / 81-86 Courallie Avenue\, HOMEBUSH WEST NSW 2140
END:VEVENT
END:VCALENDAR
